BEGIN:VCALENDAR
VERSION:2.0
PRODID:-//STAGE - ATV Club of Eastern Ontario - ECPv6.15.20//NONSGML v1.0//EN
CALSCALE:GREGORIAN
METHOD:PUBLISH
X-WR-CALNAME:STAGE - ATV Club of Eastern Ontario
X-ORIGINAL-URL:https://staging.atv-vtteo.org
X-WR-CALDESC:Events for STAGE - ATV Club of Eastern Ontario
REFRESH-INTERVAL;VALUE=DURATION:PT1H
X-Robots-Tag:noindex
X-PUBLISHED-TTL:PT1H
BEGIN:VTIMEZONE
TZID:America/New_York
BEGIN:DAYLIGHT
TZOFFSETFROM:-0500
TZOFFSETTO:-0400
TZNAME:EDT
DTSTART:20250309T070000
END:DAYLIGHT
BEGIN:STANDARD
TZOFFSETFROM:-0400
TZOFFSETTO:-0500
TZNAME:EST
DTSTART:20251102T060000
END:STANDARD
BEGIN:DAYLIGHT
TZOFFSETFROM:-0500
TZOFFSETTO:-0400
TZNAME:EDT
DTSTART:20260308T070000
END:DAYLIGHT
BEGIN:STANDARD
TZOFFSETFROM:-0400
TZOFFSETTO:-0500
TZNAME:EST
DTSTART:20261101T060000
END:STANDARD
BEGIN:DAYLIGHT
TZOFFSETFROM:-0500
TZOFFSETTO:-0400
TZNAME:EDT
DTSTART:20270314T070000
END:DAYLIGHT
BEGIN:STANDARD
TZOFFSETFROM:-0400
TZOFFSETTO:-0500
TZNAME:EST
DTSTART:20271107T060000
END:STANDARD
END:VTIMEZONE
BEGIN:VEVENT
DTSTART;TZID=America/New_York:20260114T190000
DTEND;TZID=America/New_York:20260114T190000
DTSTAMP:20260422T190344
CREATED:20260111T203552Z
LAST-MODIFIED:20260111T211227Z
UID:3776-1768417200-1768417200@staging.atv-vtteo.org
SUMMARY:Monthly Board meeting
DESCRIPTION:Monthly ATVCEO Board Meeting – All are welcome
URL:https://staging.atv-vtteo.org/event-list/monthly-board-meeting-14/
LOCATION:Ronald Lalonde Community Hall\, 2564 St Pascal Rd\, Saint-Pascal-Baylon\, Ontario\, K0A 3N0\, Canada
ATTACH;FMTTYPE=image/jpeg:https://staging.atv-vtteo.org/wp-content/uploads/2026/01/board-meeting-pic.jpg
END:VEVENT
BEGIN:VEVENT
DTSTART;TZID=America/New_York:20260117T160000
DTEND;TZID=America/New_York:20260117T160000
DTSTAMP:20260422T190344
CREATED:20260111T203346Z
LAST-MODIFIED:20260111T205800Z
UID:3774-1768665600-1768665600@staging.atv-vtteo.org
SUMMARY:Spaghetti Supper\, Night ride & Bonfire
DESCRIPTION:You are invited to a spaghetti supper \n\n16:00 – 17:00 Registration\n17:00 – 18:45 Spaghetti supper\n19:00 – 22:00 Ride to Plantagenet warm up shack for bonfire (Requires a valid OFATV (QuadON) annual or temporary permit)\n\nPlease complete the waiver before the ride\, no need to print it.
URL:https://staging.atv-vtteo.org/event-list/spaghetti-supper-night-ride-bonfire/
LOCATION:Ronald Lalonde Community Hall\, 2564 St Pascal Rd\, Saint-Pascal-Baylon\, Ontario\, K0A 3N0\, Canada
ORGANIZER;CN="Ben":MAILTO:benoit@atv-vtteo.org
END:VEVENT
BEGIN:VEVENT
DTSTART;TZID=America/New_York:20260207T100000
DTEND;TZID=America/New_York:20260207T150000
DTSTAMP:20260422T190344
CREATED:20260111T204630Z
LAST-MODIFIED:20260111T211112Z
UID:3805-1770458400-1770476400@staging.atv-vtteo.org
SUMMARY:Forêt Larose Shelter: Trails Showcase & Fundraiser
DESCRIPTION:More details to follow.
URL:https://staging.atv-vtteo.org/event-list/foret-larose-shelter-trails-showcase-fundraiser/
LOCATION:Ronald Lalonde Community Hall\, 2564 St Pascal Rd\, Saint-Pascal-Baylon\, Ontario\, K0A 3N0\, Canada
ATTACH;FMTTYPE=image/jpeg:https://staging.atv-vtteo.org/wp-content/uploads/2026/01/shelter.jpeg
ORGANIZER;CN="Ben":MAILTO:benoit@atv-vtteo.org
END:VEVENT
BEGIN:VEVENT
DTSTART;TZID=America/New_York:20260211T190000
DTEND;TZID=America/New_York:20260211T190000
DTSTAMP:20260422T190344
CREATED:20260111T203657Z
LAST-MODIFIED:20260111T211023Z
UID:3778-1770836400-1770836400@staging.atv-vtteo.org
SUMMARY:Monthly Board meeting
DESCRIPTION:Monthly ATVCEO Board Meeting – All are welcome
URL:https://staging.atv-vtteo.org/event-list/monthly-board-meeting-15/
LOCATION:Ronald Lalonde Community Hall\, 2564 St Pascal Rd\, Saint-Pascal-Baylon\, Ontario\, K0A 3N0\, Canada
END:VEVENT
BEGIN:VEVENT
DTSTART;TZID=America/New_York:20260311T190000
DTEND;TZID=America/New_York:20260311T190000
DTSTAMP:20260422T190344
CREATED:20260111T203730Z
LAST-MODIFIED:20260111T211011Z
UID:3780-1773255600-1773255600@staging.atv-vtteo.org
SUMMARY:Monthly Board meeting
DESCRIPTION:Monthly ATVCEO Board Meeting – All are welcome
URL:https://staging.atv-vtteo.org/event-list/monthly-board-meeting-16/
LOCATION:Ronald Lalonde Community Hall\, 2564 St Pascal Rd\, Saint-Pascal-Baylon\, Ontario\, K0A 3N0\, Canada
END:VEVENT
BEGIN:VEVENT
DTSTART;TZID=America/New_York:20260408T190000
DTEND;TZID=America/New_York:20260408T190000
DTSTAMP:20260422T190344
CREATED:20260111T203803Z
LAST-MODIFIED:20260111T211000Z
UID:3782-1775674800-1775674800@staging.atv-vtteo.org
SUMMARY:Monthly Board meeting
DESCRIPTION:Monthly ATVCEO Board Meeting – All are welcome
URL:https://staging.atv-vtteo.org/event-list/monthly-board-meeting-17/
LOCATION:Ronald Lalonde Community Hall\, 2564 St Pascal Rd\, Saint-Pascal-Baylon\, Ontario\, K0A 3N0\, Canada
ATTACH;FMTTYPE=image/jpeg:https://staging.atv-vtteo.org/wp-content/uploads/2026/01/board-meeting-pic.jpg
END:VEVENT
BEGIN:VEVENT
DTSTART;TZID=America/New_York:20260513T190000
DTEND;TZID=America/New_York:20260513T203000
DTSTAMP:20260422T190344
CREATED:20260111T203840Z
LAST-MODIFIED:20260111T210946Z
UID:3784-1778698800-1778704200@staging.atv-vtteo.org
SUMMARY:Monthly Board meeting
DESCRIPTION:Monthly ATVCEO Board Meeting – All are welcome
URL:https://staging.atv-vtteo.org/event-list/monthly-board-meeting-18/
LOCATION:Ronald Lalonde Community Hall\, 2564 St Pascal Rd\, Saint-Pascal-Baylon\, Ontario\, K0A 3N0\, Canada
ATTACH;FMTTYPE=image/jpeg:https://staging.atv-vtteo.org/wp-content/uploads/2026/01/board-meeting-pic.jpg
END:VEVENT
BEGIN:VEVENT
DTSTART;TZID=America/New_York:20260607T100000
DTEND;TZID=America/New_York:20260607T100000
DTSTAMP:20260422T190344
CREATED:20260111T204857Z
LAST-MODIFIED:20260327T020012Z
UID:3807-1780826400-1780826400@staging.atv-vtteo.org
SUMMARY:ATVCEO Members Appreciation Lunch Meet  n'Greet + ATV Benediction with Knight of Columbus of St-Pascal
DESCRIPTION:Join us at the church in St-Pascal Baylon for the ATV benediction with the Knights of Columbus of St-Pascal.  We will then ride to the shack in Plantagenet for a members appreciation BBQ.
URL:https://staging.atv-vtteo.org/event-list/atvceo-members-appreciation-lunch-meet-ngreet-atv-benediction-with-knight-of-columbus-of-st-pascal/
LOCATION:Ronald Lalonde Community Hall\, 2564 St Pascal Rd\, Saint-Pascal-Baylon\, Ontario\, K0A 3N0\, Canada
ORGANIZER;CN="Ben":MAILTO:benoit@atv-vtteo.org
END:VEVENT
BEGIN:VEVENT
DTSTART;TZID=America/New_York:20260610T190000
DTEND;TZID=America/New_York:20260610T203000
DTSTAMP:20260422T190344
CREATED:20260111T203930Z
LAST-MODIFIED:20260111T210754Z
UID:3786-1781118000-1781123400@staging.atv-vtteo.org
SUMMARY:Monthly Board meeting
DESCRIPTION:Monthly ATVCEO Board Meeting – All are welcome
URL:https://staging.atv-vtteo.org/event-list/monthly-board-meeting-19/
LOCATION:Ronald Lalonde Community Hall\, 2564 St Pascal Rd\, Saint-Pascal-Baylon\, Ontario\, K0A 3N0\, Canada
ATTACH;FMTTYPE=image/jpeg:https://staging.atv-vtteo.org/wp-content/uploads/2026/01/board-meeting-pic.jpg
END:VEVENT
BEGIN:VEVENT
DTSTART;TZID=America/New_York:20260708T190000
DTEND;TZID=America/New_York:20260708T203000
DTSTAMP:20260422T190344
CREATED:20260111T204003Z
LAST-MODIFIED:20260111T210743Z
UID:3788-1783537200-1783542600@staging.atv-vtteo.org
SUMMARY:Monthly Board meeting
DESCRIPTION:Monthly ATVCEO Board Meeting – All are welcome
URL:https://staging.atv-vtteo.org/event-list/monthly-board-meeting-20/
LOCATION:Ronald Lalonde Community Hall\, 2564 St Pascal Rd\, Saint-Pascal-Baylon\, Ontario\, K0A 3N0\, Canada
ATTACH;FMTTYPE=image/jpeg:https://staging.atv-vtteo.org/wp-content/uploads/2026/01/board-meeting-pic.jpg
END:VEVENT
BEGIN:VEVENT
DTSTART;TZID=America/New_York:20260812T190000
DTEND;TZID=America/New_York:20260812T203000
DTSTAMP:20260422T190344
CREATED:20260111T204041Z
LAST-MODIFIED:20260111T210728Z
UID:3790-1786561200-1786566600@staging.atv-vtteo.org
SUMMARY:Monthly Board meeting
DESCRIPTION:Monthly ATVCEO Board Meeting – All are welcome
URL:https://staging.atv-vtteo.org/event-list/monthly-board-meeting-21/
LOCATION:Ronald Lalonde Community Hall\, 2564 St Pascal Rd\, Saint-Pascal-Baylon\, Ontario\, K0A 3N0\, Canada
ATTACH;FMTTYPE=image/jpeg:https://staging.atv-vtteo.org/wp-content/uploads/2026/01/board-meeting-pic.jpg
END:VEVENT
BEGIN:VEVENT
DTSTART;TZID=America/New_York:20260909T190000
DTEND;TZID=America/New_York:20260909T203000
DTSTAMP:20260422T190344
CREATED:20260111T204117Z
LAST-MODIFIED:20260111T210714Z
UID:3792-1788980400-1788985800@staging.atv-vtteo.org
SUMMARY:Monthly Board meeting
DESCRIPTION:Monthly ATVCEO Board Meeting – All are welcome
URL:https://staging.atv-vtteo.org/event-list/monthly-board-meeting-22/
LOCATION:Ronald Lalonde Community Hall\, 2564 St Pascal Rd\, Saint-Pascal-Baylon\, Ontario\, K0A 3N0\, Canada
ATTACH;FMTTYPE=image/jpeg:https://staging.atv-vtteo.org/wp-content/uploads/2026/01/board-meeting-pic.jpg
END:VEVENT
BEGIN:VEVENT
DTSTART;TZID=America/New_York:20261014T190000
DTEND;TZID=America/New_York:20261014T203000
DTSTAMP:20260422T190344
CREATED:20260111T204151Z
LAST-MODIFIED:20260111T210609Z
UID:3794-1792004400-1792009800@staging.atv-vtteo.org
SUMMARY:Monthly Board meeting
DESCRIPTION:Monthly ATVCEO Board Meeting – All are welcome
URL:https://staging.atv-vtteo.org/event-list/monthly-board-meeting-23/
LOCATION:Ronald Lalonde Community Hall\, 2564 St Pascal Rd\, Saint-Pascal-Baylon\, Ontario\, K0A 3N0\, Canada
ATTACH;FMTTYPE=image/jpeg:https://staging.atv-vtteo.org/wp-content/uploads/2026/01/board-meeting-pic.jpg
END:VEVENT
BEGIN:VEVENT
DTSTART;TZID=America/New_York:20261017T083000
DTEND;TZID=America/New_York:20261017T170000
DTSTAMP:20260422T190344
CREATED:20260111T205152Z
LAST-MODIFIED:20260111T205235Z
UID:3809-1792225800-1792256400@staging.atv-vtteo.org
SUMMARY:Ovarian Cancer Fundraiser ride
DESCRIPTION:Come join us for a fun ride to raise money for a great cause!\n\n08:30 – 09:45 Registration at the Wendover Community Center\, 5000 Centre Street\, Wendover\, Ontario\n10:00 – 17:00 Ride (Requires a valid OFATV (QuadON) annual or temporary permit)\n\n\nDriver and passenger must fill out separate waiver form prior to the ride. No need to print a copy. Note to passenger: put your name and your info on the waiver form with the ATV/SxS permit number you are the passenger on.\nCost: $20/person – $5 for a child 12 and under.\nProof of OFATV (QuadON) trail permit required • Limited day permits available on site ($30).  Note; if purchasing your day permit on site\, you will not be able to complete the on-line waiver.  Paper waivers will be available for completion.\nLunch: Free hot dogs\, chips and beverages at P5 parking in Larose Forest\nDoor prizes drawn at lunch\nAt your discretion if you cannot attend or wish to make an additional donation please visit Ovarian Cancer Canada
URL:https://staging.atv-vtteo.org/event-list/ovarian-cancer-fundraiser-ride-2/
LOCATION:Wendover Community Center\, 5000 Centre Street\, Wendover\, Ontario\, Canada
ATTACH;FMTTYPE=image/jpeg:https://staging.atv-vtteo.org/wp-content/uploads/2024/12/cancer-2.jpg
END:VEVENT
BEGIN:VEVENT
DTSTART;TZID=America/New_York:20261107T083000
DTEND;TZID=America/New_York:20261107T170000
DTSTAMP:20260422T190344
CREATED:20260111T210322Z
LAST-MODIFIED:20260111T210322Z
UID:3813-1794040200-1794070800@staging.atv-vtteo.org
SUMMARY:SoldierOn Fundraiser ride
DESCRIPTION:Come join us for a fun ride to raise money for a great cause!\n\n08:30 – 09:45 Registration at St-Pascal Community Center\, 2564 St-Pascal Rd\, St-Pascal Baylon\, Ontario.\n10:00 – 17:00 Ride (Requires a valid OFATV (QuadON) annual or temporary permit)\n\nDriver and passenger must fill out separate waiver form prior to the ride. No need to print a copy. Note to passenger: put your name and your info on the waiver form with the ATV/SxS permit number you are the passenger on.\nCost: $20/person\nAt your discretion if you cannot attend or wish to make an additional donation please visit Soldier On\nProof of OFATV (QuadON) trail permit required • Limited day permits available on site ($30).  Note: if purchasing your day permit on site\, you will not be able to complete the on-line waiver.  Paper waivers will be available for completion.\nLunch: at your expense at la Fromagerie St-Albert\, 150\, St-Paul Street\, St-Albert\, Ontario
URL:https://staging.atv-vtteo.org/event-list/soldieron-fundraiser-ride/
LOCATION:Ronald Lalonde Community Hall\, 2564 St Pascal Rd\, Saint-Pascal-Baylon\, Ontario\, K0A 3N0\, Canada
END:VEVENT
BEGIN:VEVENT
DTSTART;TZID=America/New_York:20261111T190000
DTEND;TZID=America/New_York:20261111T203000
DTSTAMP:20260422T190344
CREATED:20260111T204240Z
LAST-MODIFIED:20260111T210518Z
UID:3796-1794423600-1794429000@staging.atv-vtteo.org
SUMMARY:Monthly Board meeting
DESCRIPTION:Monthly ATVCEO Board Meeting – All are welcome
URL:https://staging.atv-vtteo.org/event-list/monthly-board-meeting-24/
LOCATION:Ronald Lalonde Community Hall\, 2564 St Pascal Rd\, Saint-Pascal-Baylon\, Ontario\, K0A 3N0\, Canada
ATTACH;FMTTYPE=image/jpeg:https://staging.atv-vtteo.org/wp-content/uploads/2026/01/board-meeting-pic.jpg
END:VEVENT
BEGIN:VEVENT
DTSTART;TZID=America/New_York:20261209T190000
DTEND;TZID=America/New_York:20261209T203000
DTSTAMP:20260422T190344
CREATED:20260111T204315Z
LAST-MODIFIED:20260111T210454Z
UID:3798-1796842800-1796848200@staging.atv-vtteo.org
SUMMARY:Monthly Board meeting
DESCRIPTION:Monthly ATVCEO Board Meeting – All are welcome
URL:https://staging.atv-vtteo.org/event-list/monthly-board-meeting-25/
LOCATION:Ronald Lalonde Community Hall\, 2564 St Pascal Rd\, Saint-Pascal-Baylon\, Ontario\, K0A 3N0\, Canada
ATTACH;FMTTYPE=image/jpeg:https://staging.atv-vtteo.org/wp-content/uploads/2026/01/board-meeting-pic.jpg
END:VEVENT
END:VCALENDAR