BEGIN:VCALENDAR
VERSION:2.0
PRODID:-//STAGE - ATV Club of Eastern Ontario - ECPv6.15.20//NONSGML v1.0//EN
CALSCALE:GREGORIAN
METHOD:PUBLISH
X-WR-CALNAME:STAGE - ATV Club of Eastern Ontario
X-ORIGINAL-URL:https://staging.atv-vtteo.org
X-WR-CALDESC:Events for STAGE - ATV Club of Eastern Ontario
REFRESH-INTERVAL;VALUE=DURATION:PT1H
X-Robots-Tag:noindex
X-PUBLISHED-TTL:PT1H
BEGIN:VTIMEZONE
TZID:America/New_York
BEGIN:DAYLIGHT
TZOFFSETFROM:-0500
TZOFFSETTO:-0400
TZNAME:EDT
DTSTART:20230312T070000
END:DAYLIGHT
BEGIN:STANDARD
TZOFFSETFROM:-0400
TZOFFSETTO:-0500
TZNAME:EST
DTSTART:20231105T060000
END:STANDARD
BEGIN:DAYLIGHT
TZOFFSETFROM:-0500
TZOFFSETTO:-0400
TZNAME:EDT
DTSTART:20240310T070000
END:DAYLIGHT
BEGIN:STANDARD
TZOFFSETFROM:-0400
TZOFFSETTO:-0500
TZNAME:EST
DTSTART:20241103T060000
END:STANDARD
BEGIN:DAYLIGHT
TZOFFSETFROM:-0500
TZOFFSETTO:-0400
TZNAME:EDT
DTSTART:20250309T070000
END:DAYLIGHT
BEGIN:STANDARD
TZOFFSETFROM:-0400
TZOFFSETTO:-0500
TZNAME:EST
DTSTART:20251102T060000
END:STANDARD
END:VTIMEZONE
BEGIN:VEVENT
DTSTART;TZID=America/New_York:20241113T190000
DTEND;TZID=America/New_York:20241113T203000
DTSTAMP:20260422T174929
CREATED:20241027T031920Z
LAST-MODIFIED:20241027T032828Z
UID:84-1731524400-1731529800@staging.atv-vtteo.org
SUMMARY:Monthly Board Meeting
DESCRIPTION:Monthly ATVCEO Board Meeting – All are welcome
URL:https://staging.atv-vtteo.org/event-list/monthly-board-meeting/
LOCATION:Ronald Lalonde Community Hall\, 2564 St Pascal Rd\, Saint-Pascal-Baylon\, Ontario\, K0A 3N0\, Canada
END:VEVENT
BEGIN:VEVENT
DTSTART;TZID=America/New_York:20241109T083000
DTEND;TZID=America/New_York:20241109T170000
DTSTAMP:20260422T174929
CREATED:20241027T032119Z
LAST-MODIFIED:20241029T020730Z
UID:88-1731141000-1731171600@staging.atv-vtteo.org
SUMMARY:Veterans Fundraiser Ride
DESCRIPTION:*Soldier On is a program of the Canadian Armed Forces which contributes to the recovery of ill and injured CAF members and veterans by providing opportunities and resources.Registration (driver & passenger): Between 08:30 – 09:50. Bring proof of OFATV (QuadON) permit. Annual/day permit available online at https://getapermit.ofatv.org. Select ATV Club of Eastern Ontario as club of choice. Limited number of day permit ($25) available on site.Route: Ride from St-Pascal through the Larose forest to St-Albert Cheese Factory – approx 100 km returnLunch: At your expense at St-Albert Cheese FactoryPersonal Donations: https://www.soldieron.ca/Donate
URL:https://staging.atv-vtteo.org/event-list/veterans-fundraiser-rideveterans-fundraiser-ride/
LOCATION:Ronald Lalonde Community Hall\, 2564 St Pascal Rd\, Saint-Pascal-Baylon\, Ontario\, K0A 3N0\, Canada
END:VEVENT
END:VCALENDAR