BEGIN:VCALENDAR
VERSION:2.0
PRODID:-//STAGE - ATV Club of Eastern Ontario - ECPv6.15.20//NONSGML v1.0//EN
CALSCALE:GREGORIAN
METHOD:PUBLISH
X-WR-CALNAME:STAGE - ATV Club of Eastern Ontario
X-ORIGINAL-URL:https://staging.atv-vtteo.org
X-WR-CALDESC:Events for STAGE - ATV Club of Eastern Ontario
REFRESH-INTERVAL;VALUE=DURATION:PT1H
X-Robots-Tag:noindex
X-PUBLISHED-TTL:PT1H
BEGIN:VTIMEZONE
TZID:America/New_York
BEGIN:DAYLIGHT
TZOFFSETFROM:-0500
TZOFFSETTO:-0400
TZNAME:EDT
DTSTART:20230312T070000
END:DAYLIGHT
BEGIN:STANDARD
TZOFFSETFROM:-0400
TZOFFSETTO:-0500
TZNAME:EST
DTSTART:20231105T060000
END:STANDARD
BEGIN:DAYLIGHT
TZOFFSETFROM:-0500
TZOFFSETTO:-0400
TZNAME:EDT
DTSTART:20240310T070000
END:DAYLIGHT
BEGIN:STANDARD
TZOFFSETFROM:-0400
TZOFFSETTO:-0500
TZNAME:EST
DTSTART:20241103T060000
END:STANDARD
BEGIN:DAYLIGHT
TZOFFSETFROM:-0500
TZOFFSETTO:-0400
TZNAME:EDT
DTSTART:20250309T070000
END:DAYLIGHT
BEGIN:STANDARD
TZOFFSETFROM:-0400
TZOFFSETTO:-0500
TZNAME:EST
DTSTART:20251102T060000
END:STANDARD
END:VTIMEZONE
BEGIN:VEVENT
DTSTART;TZID=America/New_York:20241201T163000
DTEND;TZID=America/New_York:20241201T180000
DTSTAMP:20260423T002135
CREATED:20241128T023118Z
LAST-MODIFIED:20241128T023118Z
UID:396-1733070600-1733076000@staging.atv-vtteo.org
SUMMARY:Rockland Santa Clause Parade
DESCRIPTION:The magic of Christmas is coming to Clarence-Rockland!\nThe City of Clarence-Rockland and the Royal Bank\, in collaboration with Breuwerk Hoffman\, RiverRock Inn\, Rockland Marine\, and New Beginning Church\, invite you to the Christmas Parade of Lights on Sunday\, December 1st at 4:30 PM!
URL:https://staging.atv-vtteo.org/event-list/rockland-santa-clause-parade/
LOCATION:Ontario
END:VEVENT
BEGIN:VEVENT
DTSTART;TZID=America/New_York:20241201T173000
DTEND;TZID=America/New_York:20241201T190000
DTSTAMP:20260423T002135
CREATED:20241128T023251Z
LAST-MODIFIED:20241128T023437Z
UID:398-1733074200-1733079600@staging.atv-vtteo.org
SUMMARY:Casselman Christmas Parade
DESCRIPTION:The Casselman Christmas Festival wraps up with a special nighttime christmas parade. This illuminated parade is favoured by young and old. It will start at 5:30 around Richer Circle.
URL:https://staging.atv-vtteo.org/event-list/casselman-christman-parade/
LOCATION:Ontario
END:VEVENT
BEGIN:VEVENT
DTSTART;TZID=America/New_York:20241211T170000
DTEND;TZID=America/New_York:20241211T203000
DTSTAMP:20260423T002135
CREATED:20241128T024106Z
LAST-MODIFIED:20241206T004006Z
UID:405-1733936400-1733949000@staging.atv-vtteo.org
SUMMARY:Board holiday dinner
DESCRIPTION:Board members are invited to join from 17:00-19:00 \n  \nAt 19:00 the general meeting will begin and everyone is welcomed to join.
URL:https://staging.atv-vtteo.org/event-list/board-holidays-dinner/
LOCATION:Private: Ruby House\, 1781 laurier\, Rockland\, Ontario\, Canada
END:VEVENT
END:VCALENDAR