BEGIN:VCALENDAR
VERSION:2.0
PRODID:-//STAGE - ATV Club of Eastern Ontario - ECPv6.15.20//NONSGML v1.0//EN
CALSCALE:GREGORIAN
METHOD:PUBLISH
X-WR-CALNAME:STAGE - ATV Club of Eastern Ontario
X-ORIGINAL-URL:https://staging.atv-vtteo.org
X-WR-CALDESC:Events for STAGE - ATV Club of Eastern Ontario
REFRESH-INTERVAL;VALUE=DURATION:PT1H
X-Robots-Tag:noindex
X-PUBLISHED-TTL:PT1H
BEGIN:VTIMEZONE
TZID:America/New_York
BEGIN:DAYLIGHT
TZOFFSETFROM:-0500
TZOFFSETTO:-0400
TZNAME:EDT
DTSTART:20240310T070000
END:DAYLIGHT
BEGIN:STANDARD
TZOFFSETFROM:-0400
TZOFFSETTO:-0500
TZNAME:EST
DTSTART:20241103T060000
END:STANDARD
BEGIN:DAYLIGHT
TZOFFSETFROM:-0500
TZOFFSETTO:-0400
TZNAME:EDT
DTSTART:20250309T070000
END:DAYLIGHT
BEGIN:STANDARD
TZOFFSETFROM:-0400
TZOFFSETTO:-0500
TZNAME:EST
DTSTART:20251102T060000
END:STANDARD
BEGIN:DAYLIGHT
TZOFFSETFROM:-0500
TZOFFSETTO:-0400
TZNAME:EDT
DTSTART:20260308T070000
END:DAYLIGHT
BEGIN:STANDARD
TZOFFSETFROM:-0400
TZOFFSETTO:-0500
TZNAME:EST
DTSTART:20261101T060000
END:STANDARD
END:VTIMEZONE
BEGIN:VEVENT
DTSTART;TZID=America/New_York:20251008T190000
DTEND;TZID=America/New_York:20251008T203000
DTSTAMP:20260422T074930
CREATED:20241228T034353Z
LAST-MODIFIED:20241228T034353Z
UID:1171-1759950000-1759955400@staging.atv-vtteo.org
SUMMARY:Monthly Board meeting
DESCRIPTION:Monthly ATVCEO Board Meeting – All are welcome
URL:https://staging.atv-vtteo.org/event-list/monthly-board-meeting-11/
LOCATION:Ronald Lalonde Community Hall\, 2564 St Pascal Rd\, Saint-Pascal-Baylon\, Ontario\, K0A 3N0\, Canada
END:VEVENT
BEGIN:VEVENT
DTSTART;TZID=America/New_York:20251018T083000
DTEND;TZID=America/New_York:20251018T170000
DTSTAMP:20260422T074930
CREATED:20241209T012633Z
LAST-MODIFIED:20251011T005013Z
UID:558-1760776200-1760806800@staging.atv-vtteo.org
SUMMARY:Ovarian Cancer Fundraiser Ride
DESCRIPTION:Come join us for a fun ride to raise money for a great cause!\n\n08:30 – 09:45 Registration at the Wendover Community Center\, 5000 Centre Street\, Wendover\, Ontario\n10:00 – 17:00 Ride (Requires a valid OFATV (QuadON) annual or temporary permit)\n\n\nDriver and passenger must fill out separate waiver form prior to the ride. No need to print a copy. Note to passenger: put your name and your info on the waiver form with the ATV/SxS permit number you are the passenger on.\nCost: $20/person – $5 for a child 12 and under.\nProof of OFATV (QuadON) trail permit required • Limited day permits available on site ($30).  Note; if purchasing your day permit on site\, you will not be able to complete the on-line waiver.  Paper waivers will be available for completion.\nLunch: Free hot dogs\, chips and beverages at P5 parking in Larose Forest\nDoor prizes drawn at lunch\nAt your discretion if you cannot attend or wish to make an additional donation please visit Ovarian Cancer Canada
URL:https://staging.atv-vtteo.org/event-list/ovarian-cancer-fundraiser-ride/
LOCATION:Wendover Community Center\, 5000 Centre Street\, Wendover\, Ontario\, Canada
ATTACH;FMTTYPE=image/jpeg:https://staging.atv-vtteo.org/wp-content/uploads/2024/12/cancer-2.jpg
END:VEVENT
END:VCALENDAR