BEGIN:VCALENDAR
VERSION:2.0
PRODID:-//Club VTT de l'Est de l'Ontario - ECPv6.15.20//NONSGML v1.0//EN
CALSCALE:GREGORIAN
METHOD:PUBLISH
X-WR-CALNAME:Club VTT de l'Est de l'Ontario
X-ORIGINAL-URL:https://staging.atv-vtteo.org/fr/
X-WR-CALDESC:Évènements pour Club VTT de l'Est de l'Ontario
REFRESH-INTERVAL;VALUE=DURATION:PT1H
X-Robots-Tag:noindex
X-PUBLISHED-TTL:PT1H
BEGIN:VTIMEZONE
TZID:America/New_York
BEGIN:DAYLIGHT
TZOFFSETFROM:-0500
TZOFFSETTO:-0400
TZNAME:EDT
DTSTART:20230312T070000
END:DAYLIGHT
BEGIN:STANDARD
TZOFFSETFROM:-0400
TZOFFSETTO:-0500
TZNAME:EST
DTSTART:20231105T060000
END:STANDARD
BEGIN:DAYLIGHT
TZOFFSETFROM:-0500
TZOFFSETTO:-0400
TZNAME:EDT
DTSTART:20240310T070000
END:DAYLIGHT
BEGIN:STANDARD
TZOFFSETFROM:-0400
TZOFFSETTO:-0500
TZNAME:EST
DTSTART:20241103T060000
END:STANDARD
BEGIN:DAYLIGHT
TZOFFSETFROM:-0500
TZOFFSETTO:-0400
TZNAME:EDT
DTSTART:20250309T070000
END:DAYLIGHT
BEGIN:STANDARD
TZOFFSETFROM:-0400
TZOFFSETTO:-0500
TZNAME:EST
DTSTART:20251102T060000
END:STANDARD
END:VTIMEZONE
BEGIN:VEVENT
DTSTART;TZID=America/New_York:20241201T163000
DTEND;TZID=America/New_York:20241201T180000
DTSTAMP:20260423T015353
CREATED:20241128T023118Z
LAST-MODIFIED:20241128T023118Z
UID:731-1733070600-1733076000@staging.atv-vtteo.org
SUMMARY:Parade du Père Noël de Rockland
DESCRIPTION:La magie de Noël arrive à Clarence-Rockland !\nLa Cité de Clarence-Rockland et la Banque Royale\, en collaboration avec Breuwerk Hoffman\, RiverRock Inn\, Rockland Marine\, et New Beginning Church\, vous invitent à la Parade des lumières de Noël le dimanche 1er décembre à 16h30 !
URL:https://staging.atv-vtteo.org/fr/event-fr/parade-du-pere-noel-de-rockland/
LOCATION:Ontario
END:VEVENT
BEGIN:VEVENT
DTSTART;TZID=America/New_York:20241201T173000
DTEND;TZID=America/New_York:20241201T190000
DTSTAMP:20260423T015353
CREATED:20241128T023251Z
LAST-MODIFIED:20241128T023251Z
UID:732-1733074200-1733079600@staging.atv-vtteo.org
SUMMARY:Parade de noël de Casselman
DESCRIPTION:Le festival de Noël de Casselman se termine par une parade nocturne spéciale. Ce défilé illuminé est apprécié des jeunes et des moins jeunes. Elle débutera à 17h30 autour du cercle Richer.
URL:https://staging.atv-vtteo.org/fr/event-fr/parade-de-noel-de-casselman/
LOCATION:Ontario
END:VEVENT
END:VCALENDAR