BEGIN:VCALENDAR
VERSION:2.0
PRODID:-//Club VTT de l'Est de l'Ontario - ECPv6.15.20//NONSGML v1.0//EN
CALSCALE:GREGORIAN
METHOD:PUBLISH
X-ORIGINAL-URL:https://staging.atv-vtteo.org/fr/
X-WR-CALDESC:Évènements pour Club VTT de l'Est de l'Ontario
REFRESH-INTERVAL;VALUE=DURATION:PT1H
X-Robots-Tag:noindex
X-PUBLISHED-TTL:PT1H
BEGIN:VTIMEZONE
TZID:America/New_York
BEGIN:DAYLIGHT
TZOFFSETFROM:-0500
TZOFFSETTO:-0400
TZNAME:EDT
DTSTART:20240310T070000
END:DAYLIGHT
BEGIN:STANDARD
TZOFFSETFROM:-0400
TZOFFSETTO:-0500
TZNAME:EST
DTSTART:20241103T060000
END:STANDARD
BEGIN:DAYLIGHT
TZOFFSETFROM:-0500
TZOFFSETTO:-0400
TZNAME:EDT
DTSTART:20250309T070000
END:DAYLIGHT
BEGIN:STANDARD
TZOFFSETFROM:-0400
TZOFFSETTO:-0500
TZNAME:EST
DTSTART:20251102T060000
END:STANDARD
BEGIN:DAYLIGHT
TZOFFSETFROM:-0500
TZOFFSETTO:-0400
TZNAME:EDT
DTSTART:20260308T070000
END:DAYLIGHT
BEGIN:STANDARD
TZOFFSETFROM:-0400
TZOFFSETTO:-0500
TZNAME:EST
DTSTART:20261101T060000
END:STANDARD
END:VTIMEZONE
BEGIN:VEVENT
DTSTART;TZID=America/New_York:20250118T170000
DTEND;TZID=America/New_York:20250118T220000
DTSTAMP:20260423T002421
CREATED:20241209T011526Z
LAST-MODIFIED:20241231T221511Z
UID:738-1737219600-1737237600@staging.atv-vtteo.org
SUMMARY:Souper et randonnée nocturne à l'occasion du 20e anniversaire du CVTTEO
DESCRIPTION:17:00 – 18:45 Souper de haricots et de hot-dogs\n17:00 – 18:45 Inscription pour la randonée\n19:00 – 22:00 Randonnée jusqu’à la cabane pour un feu de joie (nécessite un permis valide annuel ou temporaire de l’OFATV (QuadON))\n\nCost: 15$ pour le souper\, la randonnée est gratuite\nVeuillez remplir le formulaire de renonciation avant la randonnée
URL:https://staging.atv-vtteo.org/fr/event-fr/souper-et-randonnee-nocturne-a-loccasion-du-20e-anniversaire-du-cvtteo/
LOCATION:Salle communautaire Ronald Lalonde\, 2564 rue St Pascal\, Saint-Pascal-Baylon\, Ontario\, K0A 3N0\, Canada
END:VEVENT
END:VCALENDAR