BEGIN:VCALENDAR
VERSION:2.0
PRODID:-//Club VTT de l'Est de l'Ontario - ECPv6.15.20//NONSGML v1.0//EN
CALSCALE:GREGORIAN
METHOD:PUBLISH
X-WR-CALNAME:Club VTT de l'Est de l'Ontario
X-ORIGINAL-URL:https://staging.atv-vtteo.org/fr/
X-WR-CALDESC:Évènements pour Club VTT de l'Est de l'Ontario
REFRESH-INTERVAL;VALUE=DURATION:PT1H
X-Robots-Tag:noindex
X-PUBLISHED-TTL:PT1H
BEGIN:VTIMEZONE
TZID:America/New_York
BEGIN:DAYLIGHT
TZOFFSETFROM:-0500
TZOFFSETTO:-0400
TZNAME:EDT
DTSTART:20250309T070000
END:DAYLIGHT
BEGIN:STANDARD
TZOFFSETFROM:-0400
TZOFFSETTO:-0500
TZNAME:EST
DTSTART:20251102T060000
END:STANDARD
BEGIN:DAYLIGHT
TZOFFSETFROM:-0500
TZOFFSETTO:-0400
TZNAME:EDT
DTSTART:20260308T070000
END:DAYLIGHT
BEGIN:STANDARD
TZOFFSETFROM:-0400
TZOFFSETTO:-0500
TZNAME:EST
DTSTART:20261101T060000
END:STANDARD
BEGIN:DAYLIGHT
TZOFFSETFROM:-0500
TZOFFSETTO:-0400
TZNAME:EDT
DTSTART:20270314T070000
END:DAYLIGHT
BEGIN:STANDARD
TZOFFSETFROM:-0400
TZOFFSETTO:-0500
TZNAME:EST
DTSTART:20271107T060000
END:STANDARD
END:VTIMEZONE
BEGIN:VEVENT
DTSTART;TZID=America/New_York:20260513T190000
DTEND;TZID=America/New_York:20260513T203000
DTSTAMP:20260422T005555
CREATED:20260111T203840Z
LAST-MODIFIED:20260111T203840Z
UID:3829-1778698800-1778704200@staging.atv-vtteo.org
SUMMARY:Réunion mensuelle du conseil d'administration
DESCRIPTION:Réunion mensuelle du conseil d’administration du CVTTEO – Bienvenue à tous
URL:https://staging.atv-vtteo.org/fr/event-fr/reunion-mensuelle-du-conseil-dadministration-18/
LOCATION:Salle communautaire Ronald Lalonde\, 2564 rue St Pascal\, Saint-Pascal-Baylon\, Ontario\, K0A 3N0\, Canada
ATTACH;FMTTYPE=image/jpeg:https://staging.atv-vtteo.org/wp-content/uploads/2026/01/board-meeting-pic.jpg
END:VEVENT
BEGIN:VEVENT
DTSTART;TZID=America/New_York:20260607T100000
DTEND;TZID=America/New_York:20260607T100000
DTSTAMP:20260422T005555
CREATED:20260111T204857Z
LAST-MODIFIED:20260404T005412Z
UID:3830-1780826400-1780826400@staging.atv-vtteo.org
SUMMARY:Dîner de remerciement des membres du CVTTEO + bénédiction des VTT avec les Chevaliers de Colomb de Saint-Pascal
DESCRIPTION:Rejoignez-nous à l’église de St-Pascal Baylon pour la bénédiction en quad avec les Chevaliers de Colomb de Saint-Pascal. Nous irons ensuite à la cabane de Plantagenet pour un barbecue d’appréciation des membres.
URL:https://staging.atv-vtteo.org/fr/event-fr/dejeuner-dappreciation-des-membres-de-latvceo-meet-ngreet-benediction-de-latv-avec-le-chevalier-de-colomb-de-saint-pascal/
LOCATION:Salle communautaire Ronald Lalonde\, 2564 rue St Pascal\, Saint-Pascal-Baylon\, Ontario\, K0A 3N0\, Canada
ORGANIZER;CN="Ben":MAILTO:benoit@atv-vtteo.org
END:VEVENT
BEGIN:VEVENT
DTSTART;TZID=America/New_York:20260610T190000
DTEND;TZID=America/New_York:20260610T203000
DTSTAMP:20260422T005555
CREATED:20260111T203930Z
LAST-MODIFIED:20260111T203930Z
UID:3831-1781118000-1781123400@staging.atv-vtteo.org
SUMMARY:Réunion mensuelle du conseil d'administration
DESCRIPTION:Réunion mensuelle du conseil d’administration du CVTTEO – Bienvenue à tous
URL:https://staging.atv-vtteo.org/fr/event-fr/reunion-mensuelle-du-conseil-dadministration-19/
LOCATION:Salle communautaire Ronald Lalonde\, 2564 rue St Pascal\, Saint-Pascal-Baylon\, Ontario\, K0A 3N0\, Canada
ATTACH;FMTTYPE=image/jpeg:https://staging.atv-vtteo.org/wp-content/uploads/2026/01/board-meeting-pic.jpg
END:VEVENT
BEGIN:VEVENT
DTSTART;TZID=America/New_York:20260708T190000
DTEND;TZID=America/New_York:20260708T203000
DTSTAMP:20260422T005555
CREATED:20260111T204003Z
LAST-MODIFIED:20260111T204003Z
UID:3835-1783537200-1783542600@staging.atv-vtteo.org
SUMMARY:Réunion mensuelle du conseil d'administration
DESCRIPTION:Réunion mensuelle du conseil d’administration du CVTTEO – Bienvenue à tous
URL:https://staging.atv-vtteo.org/fr/event-fr/reunion-mensuelle-du-conseil-dadministration-23/
LOCATION:Salle communautaire Ronald Lalonde\, 2564 rue St Pascal\, Saint-Pascal-Baylon\, Ontario\, K0A 3N0\, Canada
ATTACH;FMTTYPE=image/jpeg:https://staging.atv-vtteo.org/wp-content/uploads/2026/01/board-meeting-pic.jpg
END:VEVENT
BEGIN:VEVENT
DTSTART;TZID=America/New_York:20260812T190000
DTEND;TZID=America/New_York:20260812T203000
DTSTAMP:20260422T005555
CREATED:20260111T204041Z
LAST-MODIFIED:20260111T204041Z
UID:3834-1786561200-1786566600@staging.atv-vtteo.org
SUMMARY:Réunion mensuelle du conseil d'administration
DESCRIPTION:Réunion mensuelle du conseil d’administration du CVTTEO – Bienvenue à tous
URL:https://staging.atv-vtteo.org/fr/event-fr/reunion-mensuelle-du-conseil-dadministration-22/
LOCATION:Salle communautaire Ronald Lalonde\, 2564 rue St Pascal\, Saint-Pascal-Baylon\, Ontario\, K0A 3N0\, Canada
ATTACH;FMTTYPE=image/jpeg:https://staging.atv-vtteo.org/wp-content/uploads/2026/01/board-meeting-pic.jpg
END:VEVENT
BEGIN:VEVENT
DTSTART;TZID=America/New_York:20260909T190000
DTEND;TZID=America/New_York:20260909T203000
DTSTAMP:20260422T005555
CREATED:20260111T204117Z
LAST-MODIFIED:20260111T204117Z
UID:3833-1788980400-1788985800@staging.atv-vtteo.org
SUMMARY:Réunion mensuelle du conseil d'administration
DESCRIPTION:Réunion mensuelle du conseil d’administration du CVTTEO – Bienvenue à tous
URL:https://staging.atv-vtteo.org/fr/event-fr/reunion-mensuelle-du-conseil-dadministration-21/
LOCATION:Salle communautaire Ronald Lalonde\, 2564 rue St Pascal\, Saint-Pascal-Baylon\, Ontario\, K0A 3N0\, Canada
ATTACH;FMTTYPE=image/jpeg:https://staging.atv-vtteo.org/wp-content/uploads/2026/01/board-meeting-pic.jpg
END:VEVENT
BEGIN:VEVENT
DTSTART;TZID=America/New_York:20261014T190000
DTEND;TZID=America/New_York:20261014T203000
DTSTAMP:20260422T005555
CREATED:20260111T204151Z
LAST-MODIFIED:20260111T204151Z
UID:3832-1792004400-1792009800@staging.atv-vtteo.org
SUMMARY:Réunion mensuelle du conseil d'administration
DESCRIPTION:Réunion mensuelle du conseil d’administration du CVTTEO – Bienvenue à tous
URL:https://staging.atv-vtteo.org/fr/event-fr/reunion-mensuelle-du-conseil-dadministration-20/
LOCATION:Salle communautaire Ronald Lalonde\, 2564 rue St Pascal\, Saint-Pascal-Baylon\, Ontario\, K0A 3N0\, Canada
ATTACH;FMTTYPE=image/jpeg:https://staging.atv-vtteo.org/wp-content/uploads/2026/01/board-meeting-pic.jpg
END:VEVENT
BEGIN:VEVENT
DTSTART;TZID=America/New_York:20261017T083000
DTEND;TZID=America/New_York:20261017T170000
DTSTAMP:20260422T005555
CREATED:20260111T205152Z
LAST-MODIFIED:20260111T205152Z
UID:3836-1792225800-1792256400@staging.atv-vtteo.org
SUMMARY:Randonnée levée de fonds pour le cancer de l’ovaire
DESCRIPTION:Venez nous rejoindre pour une randonnée amusante afin d’amasser des fonds pour une grande cause !\n\n08 h 30 – 9 h 45 Inscription au Centre communautaire de Wendover\, 5000\, rue Centre\, Wendover\, Ontario\n10:00 – 17:00 Randonnée (nécessite un permis annuel ou temporaire valide de l’OFATV (QuadON))\n\n\nLe conducteur et le passager doivent remplir un formulaire de renonciation distinct avant le trajet. Pas besoin d’imprimer une copie. Note au passager : inscrivez votre nom et vos informations sur le formulaire de renonciation avec le numéro de permis ATV/SxS sur lequel vous êtes le passager.  \nCoût : 20 $/personne – 5 $ pour un enfant de 12 ans et moins.\nPreuve de permis de sentier OFATV (QuadON) requise • Permis d’une journée limitée disponibles sur place (30 $). Note; Si vous achetez votre permis d’une journée sur place\, vous ne pourrez pas remplir la renonciation en ligne. Des dispenses papier seront disponibles pour être remplies.  \nDîner : hot-dogs\, croustilles et breuvages gratuits au stationnement P5 dans la forêt Larose\nPrix de présence tirés au dîner\nSi vous ne pouvez participer ou si vous souhaitez faire un don supplémentaire\, veuillez vous rendre sur le site Cancer de l’ovaire Canada
URL:https://staging.atv-vtteo.org/fr/event-fr/randonnee-levee-de-fonds-pour-le-cancer-de-lovaire/
LOCATION:Centre communautaire de Wendover\, 5000 rue Centre\, Wendover\, Ontario\, Canada
ATTACH;FMTTYPE=image/jpeg:https://staging.atv-vtteo.org/wp-content/uploads/2024/12/cancer-2.jpg
END:VEVENT
BEGIN:VEVENT
DTSTART;TZID=America/New_York:20261107T083000
DTEND;TZID=America/New_York:20261107T170000
DTSTAMP:20260422T005555
CREATED:20260111T210322Z
LAST-MODIFIED:20260111T210322Z
UID:3839-1794040200-1794070800@staging.atv-vtteo.org
SUMMARY:Randonnée levée de fonds pour Sans Limites
DESCRIPTION:Venez nous rejoindre pour une randonnée amusante afin d’amasser des fonds pour une grande cause !\n\n08:30 – 09:45 Inscription au Centre Communautaire de St-Pascal\, 2564\, rue St-Pascal\, St-Pascal Baylon\, Ontario\n10:00 – 17:00 Randonnée (nécessite un permis annuel ou temporaire valide de l’OFATV (QuadON))\n\nLe conducteur et le passager doivent remplir un formulaire de renonciation distinct avant le trajet. Pas besoin d’imprimer une copie. Note au passager : inscrivez votre nom et vos informations sur le formulaire de renonciation avec le numéro de permis ATV/SxS sur lequel vous êtes le passager.  \nCoût : 20 $/personne\nSi vous ne pouvez participer ou si vous souhaitez faire un don supplémentaire\, veuillez vous rendre sur le site de Sans Limites\nPreuve de permis de sentier OFATV (QuadON) requise • Permis d’une journée limitée disponibles sur place (30 $). Note: Si vous achetez votre permis d’une journée sur place\, vous ne pourrez pas remplir la renonciation en ligne. Des renonciations papier seront disponibles pour être remplies.  \nLunch : à vos frais à la Fromagerie St-Albert\, 150\, rue St-Paul\, St-Albert\, Ontario
URL:https://staging.atv-vtteo.org/fr/event-fr/randonnee-levee-de-fonds-pour-sans-limites/
LOCATION:Salle communautaire Ronald Lalonde\, 2564 rue St Pascal\, Saint-Pascal-Baylon\, Ontario\, K0A 3N0\, Canada
END:VEVENT
BEGIN:VEVENT
DTSTART;TZID=America/New_York:20261111T190000
DTEND;TZID=America/New_York:20261111T203000
DTSTAMP:20260422T005555
CREATED:20260111T204240Z
LAST-MODIFIED:20260111T204240Z
UID:3838-1794423600-1794429000@staging.atv-vtteo.org
SUMMARY:Réunion mensuelle du conseil d'administration
DESCRIPTION:Réunion mensuelle du conseil d’administration du CVTTEO – Bienvenue à tous
URL:https://staging.atv-vtteo.org/fr/event-fr/reunion-mensuelle-du-conseil-dadministration-25/
LOCATION:Salle communautaire Ronald Lalonde\, 2564 rue St Pascal\, Saint-Pascal-Baylon\, Ontario\, K0A 3N0\, Canada
ATTACH;FMTTYPE=image/jpeg:https://staging.atv-vtteo.org/wp-content/uploads/2026/01/board-meeting-pic.jpg
END:VEVENT
BEGIN:VEVENT
DTSTART;TZID=America/New_York:20261209T190000
DTEND;TZID=America/New_York:20261209T203000
DTSTAMP:20260422T005555
CREATED:20260111T204315Z
LAST-MODIFIED:20260111T204315Z
UID:3837-1796842800-1796848200@staging.atv-vtteo.org
SUMMARY:Réunion mensuelle du conseil d'administration
DESCRIPTION:Réunion mensuelle du conseil d’administration du CVTTEO – Bienvenue à tous
URL:https://staging.atv-vtteo.org/fr/event-fr/reunion-mensuelle-du-conseil-dadministration-24/
LOCATION:Salle communautaire Ronald Lalonde\, 2564 rue St Pascal\, Saint-Pascal-Baylon\, Ontario\, K0A 3N0\, Canada
ATTACH;FMTTYPE=image/jpeg:https://staging.atv-vtteo.org/wp-content/uploads/2026/01/board-meeting-pic.jpg
END:VEVENT
END:VCALENDAR