BEGIN:VCALENDAR
VERSION:2.0
PRODID:-//Club VTT de l'Est de l'Ontario - ECPv6.15.20//NONSGML v1.0//EN
CALSCALE:GREGORIAN
METHOD:PUBLISH
X-WR-CALNAME:Club VTT de l'Est de l'Ontario
X-ORIGINAL-URL:https://staging.atv-vtteo.org/fr/
X-WR-CALDESC:Évènements pour Club VTT de l'Est de l'Ontario
REFRESH-INTERVAL;VALUE=DURATION:PT1H
X-Robots-Tag:noindex
X-PUBLISHED-TTL:PT1H
BEGIN:VTIMEZONE
TZID:America/New_York
BEGIN:DAYLIGHT
TZOFFSETFROM:-0500
TZOFFSETTO:-0400
TZNAME:EDT
DTSTART:20250309T070000
END:DAYLIGHT
BEGIN:STANDARD
TZOFFSETFROM:-0400
TZOFFSETTO:-0500
TZNAME:EST
DTSTART:20251102T060000
END:STANDARD
BEGIN:DAYLIGHT
TZOFFSETFROM:-0500
TZOFFSETTO:-0400
TZNAME:EDT
DTSTART:20260308T070000
END:DAYLIGHT
BEGIN:STANDARD
TZOFFSETFROM:-0400
TZOFFSETTO:-0500
TZNAME:EST
DTSTART:20261101T060000
END:STANDARD
BEGIN:DAYLIGHT
TZOFFSETFROM:-0500
TZOFFSETTO:-0400
TZNAME:EDT
DTSTART:20270314T070000
END:DAYLIGHT
BEGIN:STANDARD
TZOFFSETFROM:-0400
TZOFFSETTO:-0500
TZNAME:EST
DTSTART:20271107T060000
END:STANDARD
END:VTIMEZONE
BEGIN:VEVENT
DTSTART;TZID=America/New_York:20260114T190000
DTEND;TZID=America/New_York:20260114T190000
DTSTAMP:20260422T041530
CREATED:20260111T203552Z
LAST-MODIFIED:20260111T203552Z
UID:3823-1768417200-1768417200@staging.atv-vtteo.org
SUMMARY:Réunion mensuelle du conseil d'administration
DESCRIPTION:Réunion mensuelle du conseil d’administration du CVTTEO – Bienvenue à tous
URL:https://staging.atv-vtteo.org/fr/event-fr/reunion-mensuelle-du-conseil-dadministration-14/
LOCATION:Salle communautaire Ronald Lalonde\, 2564 rue St Pascal\, Saint-Pascal-Baylon\, Ontario\, K0A 3N0\, Canada
ATTACH;FMTTYPE=image/jpeg:https://staging.atv-vtteo.org/wp-content/uploads/2026/01/board-meeting-pic.jpg
END:VEVENT
BEGIN:VEVENT
DTSTART;TZID=America/New_York:20260117T160000
DTEND;TZID=America/New_York:20260117T160000
DTSTAMP:20260422T041530
CREATED:20260111T203346Z
LAST-MODIFIED:20260111T203346Z
UID:3824-1768665600-1768665600@staging.atv-vtteo.org
SUMMARY:Souper spaghetti\, randonnée nocturne et feu de joie
DESCRIPTION:Vous êtes invité à un souper spaghetti. \n\n16:00 – 17:00 Enregistrement\n17:00 – 18:45 Souper spaghetti\n19:00 – 22:00 Randonnée jusqu’à la cabane pour un feu de joie (nécessite un permis valide annuel ou temporaire de l’OFATV (QuadON))\n\nVeuillez remplir le formulaire de renonciation avant la randonnée
URL:https://staging.atv-vtteo.org/fr/event-fr/souper-spaghetti-randonnee-nocturne-et-feu-de-joie/
LOCATION:Salle communautaire Ronald Lalonde\, 2564 rue St Pascal\, Saint-Pascal-Baylon\, Ontario\, K0A 3N0\, Canada
ORGANIZER;CN="Ben":MAILTO:benoit@atv-vtteo.org
END:VEVENT
END:VCALENDAR